BEGIN:VCALENDAR
VERSION:2.0
PRODID:-//pretix//pretix.eu//
BEGIN:VTIMEZONE
TZID:Europe/Berlin
BEGIN:STANDARD
DTSTART:20001029T040000
RRULE:FREQ=YEARLY;BYDAY=-1SU;BYMONTH=10
TZNAME:CET
TZOFFSETFROM:+0200
TZOFFSETTO:+0100
END:STANDARD
BEGIN:DAYLIGHT
DTSTART:20000326T030000
RRULE:FREQ=YEARLY;BYDAY=-1SU;BYMONTH=3
TZNAME:CEST
TZOFFSETFROM:+0100
TZOFFSETTO:+0200
END:DAYLIGHT
END:VTIMEZONE
BEGIN:VEVENT
UID:pretix-PosaunenWalldorf-251004-EK-0@posaunenchorwalldorf.nowticket.de
DTSTART;TZID=Europe/Berlin:20251004T200000
DTEND;TZID=Europe/Berlin:20251004T210000
DESCRIPTION:Tickets: https://posaunenchorwalldorf.nowticket.de/251004-EK/\n
 Einlass: 04.10.2025 19:00\nVeranstalter: X - Posaunenchor der evangelische
 n Kirche Walldorf
DTSTAMP:20260422T164345Z
LOCATION:Astoria-Halle Sport und Kultur\, Schwetzinger Str. 91\, 69190 Wall
 dorf
SUMMARY:Mnozil Brass
END:VEVENT
END:VCALENDAR
